View In:
ArcGIS JavaScript
ArcGIS Online Map Viewer
ArcGIS Earth
Service Description: _Climate/PRISM_tmin_normals_1991_2020_composite
Name: _Climate/PRISM_tmin_normals_1991_2020_composite
Description:
Single Fused Map Cache: false
Extent:
XMin: -1.3904457277674828E7
YMin: 3780260.717859309
XMax: -1.2218057277674828E7
YMax: 6435460.717859309
Spatial Reference: 102100
(3857)
Initial Extent:
XMin: -1.3904457277674828E7
YMin: 3780260.717859309
XMax: -1.2218057277674828E7
YMax: 6435460.717859309
Spatial Reference: 102100
(3857)
Full Extent:
XMin: -1.3904457277674828E7
YMin: 3780260.717859309
XMax: -1.2218057277674828E7
YMax: 6435460.717859309
Spatial Reference: 102100
(3857)
Pixel Size X: 800.0
Pixel Size Y: 800.0
Band Count: 12
Pixel Type: F32
RasterFunction Infos: {"rasterFunctionInfos": [{
"name": "None",
"description": "",
"help": ""
}]}
Mensuration Capabilities: Basic
Has Histograms: true
Has Colormap: false
Has Multi Dimensions : false
Rendering Rule:
Min Scale: 0
Max Scale: 0
Copyright Text:
Service Data Type: esriImageServiceDataTypeGeneric
Min Values: -2.9559974670410156, -6.5019989013671875, -7.762001037597656, -6.069999694824219, 0.6980018615722656, 6.008001327514648, 13.243999481201172, 13.856000900268555, 10.832000732421875, 5.072000503540039, -0.3999977111816406, -3.423999786376953
Max Values: 53.90599822998047, 54.13999938964844, 55.9219970703125, 62.56399917602539, 71.40199279785156, 80.23999786376953, 87.60199737548828, 86.01799774169922, 78.33200073242188, 67.65799713134766, 58.38800048828125, 54.55400085449219
Mean Values: 24.21346228426926, 25.529262711736198, 29.54619092521742, 33.70358367736555, 40.59321060052161, 46.96009607640946, 53.56679227798261, 52.70072532221499, 46.35864796198556, 37.60608446559665, 29.57186475391227, 23.750062892748875
Standard Deviation Values: 9.261012458786901, 9.090457583254286, 8.204812183640207, 7.619445787771361, 7.207244197838956, 7.321935156024798, 7.260026129485246, 7.250154788637655, 7.691804980615604, 7.969017137343251, 8.317926583960903, 9.091381860317234
Object ID Field:
Fields:
None
Default Mosaic Method: Center
Allowed Mosaic Methods:
SortField:
SortValue: null
Mosaic Operator: First
Default Compression Quality: 75
Default Resampling Method: Bilinear
Max Record Count: null
Max Image Height: 4100
Max Image Width: 15000
Max Download Image Count: null
Max Mosaic Image Count: null
Allow Raster Function: true
Allow Copy: true
Allow Analysis: true
Allow Compute TiePoints: false
Supports Statistics: false
Supports Advanced Queries: false
Use StandardizedQueries: true
Raster Type Infos:
Name: Raster Dataset
Description: Supports all ArcGIS Raster Datasets
Help:
Has Raster Attribute Table: false
Edit Fields Info: null
Ownership Based AccessControl For Rasters: null
Child Resources:
Info
Histograms
Statistics
Key Properties
Legend
Raster Function Infos
Supported Operations:
Export Image
Identify
Measure
Compute Histograms
Compute Statistics Histograms
Get Samples
Compute Class Statistics
Query Boundary
Compute Pixel Location
Compute Angles
Validate
Project