View In:
ArcGIS JavaScript
ArcGIS Online Map Viewer
ArcGIS Earth
Service Description: _Climate/PRISM_tmean_normals_1991_2020_composite
Name: _Climate/PRISM_tmean_normals_1991_2020_composite
Description:
Single Fused Map Cache: false
Extent:
XMin: -1.3904457277674828E7
YMin: 3780260.717859309
XMax: -1.2218057277674828E7
YMax: 6435460.717859309
Spatial Reference: 102100
(3857)
Initial Extent:
XMin: -1.3904457277674828E7
YMin: 3780260.717859309
XMax: -1.2218057277674828E7
YMax: 6435460.717859309
Spatial Reference: 102100
(3857)
Full Extent:
XMin: -1.3904457277674828E7
YMin: 3780260.717859309
XMax: -1.2218057277674828E7
YMax: 6435460.717859309
Spatial Reference: 102100
(3857)
Pixel Size X: 800.0
Pixel Size Y: 800.0
Band Count: 12
Pixel Type: F32
RasterFunction Infos: {"rasterFunctionInfos": [{
"name": "None",
"description": "",
"help": ""
}]}
Mensuration Capabilities: Basic
Has Histograms: true
Has Colormap: false
Has Multi Dimensions : false
Rendering Rule:
Min Scale: 0
Max Scale: 0
Copyright Text:
Service Data Type: esriImageServiceDataTypeGeneric
Min Values: 3.1459999084472656, 0.9500007629394531, 0.6620006561279297, 3.4160003662109375, 11.191999435424805, 17.150001525878906, 25.700000762939453, 26.18600082397461, 22.442001342773438, 14.719999313354492, 6.134000778198242, 2.407999038696289
Max Values: 60.20600128173828, 62.41999816894531, 68.84599304199219, 76.98199462890625, 86.43199920654297, 95.97200012207031, 102.34400177001953, 100.8499984741211, 92.12000274658203, 79.68199920654297, 67.31600189208984, 59.1619987487793
Mean Values: 32.80845445242704, 35.11536122667466, 40.38627949082595, 45.676338398180704, 53.52128882361235, 60.943711141692994, 68.8603956497852, 68.14601466111975, 61.03660161039394, 50.12762573244318, 39.341141447953476, 32.15100794137473
Standard Deviation Values: 9.140221807175346, 9.031999512917922, 8.316298720734492, 7.896358816160196, 7.582439426703237, 7.95562969184865, 7.430904305559071, 7.139535966224279, 7.5365008406230585, 8.13283617422876, 8.601975846767393, 9.04474183540208
Object ID Field:
Fields:
None
Default Mosaic Method: Center
Allowed Mosaic Methods:
SortField:
SortValue: null
Mosaic Operator: First
Default Compression Quality: 75
Default Resampling Method: Bilinear
Max Record Count: null
Max Image Height: 4100
Max Image Width: 15000
Max Download Image Count: null
Max Mosaic Image Count: null
Allow Raster Function: true
Allow Copy: true
Allow Analysis: true
Allow Compute TiePoints: false
Supports Statistics: false
Supports Advanced Queries: false
Use StandardizedQueries: true
Raster Type Infos:
Name: Raster Dataset
Description: Supports all ArcGIS Raster Datasets
Help:
Has Raster Attribute Table: false
Edit Fields Info: null
Ownership Based AccessControl For Rasters: null
Child Resources:
Info
Histograms
Statistics
Key Properties
Legend
Raster Function Infos
Supported Operations:
Export Image
Identify
Measure
Compute Histograms
Compute Statistics Histograms
Get Samples
Compute Class Statistics
Query Boundary
Compute Pixel Location
Compute Angles
Validate
Project