View In:
ArcGIS JavaScript
ArcGIS Online Map Viewer
ArcGIS Earth
Service Description: _Climate/PRISM_tmax_normals_1991_2020_composite
Name: _Climate/PRISM_tmax_normals_1991_2020_composite
Description:
Single Fused Map Cache: false
Extent:
XMin: -1.3904457277674828E7
YMin: 3780260.717859309
XMax: -1.2218057277674828E7
YMax: 6435460.717859309
Spatial Reference: 102100
(3857)
Initial Extent:
XMin: -1.3904457277674828E7
YMin: 3780260.717859309
XMax: -1.2218057277674828E7
YMax: 6435460.717859309
Spatial Reference: 102100
(3857)
Full Extent:
XMin: -1.3904457277674828E7
YMin: 3780260.717859309
XMax: -1.2218057277674828E7
YMax: 6435460.717859309
Spatial Reference: 102100
(3857)
Pixel Size X: 800.0
Pixel Size Y: 800.0
Band Count: 12
Pixel Type: F32
RasterFunction Infos: {"rasterFunctionInfos": [{
"name": "None",
"description": "",
"help": ""
}]}
Mensuration Capabilities: Basic
Has Histograms: true
Has Colormap: false
Has Multi Dimensions : false
Rendering Rule:
Min Scale: 0
Max Scale: 0
Copyright Text:
Service Data Type: esriImageServiceDataTypeGeneric
Min Values: 9.230001449584961, 8.384000778198242, 9.086002349853516, 12.884000778198242, 21.68600082397461, 28.27400016784668, 38.15599822998047, 38.49800109863281, 34.034000396728516, 24.368000030517578, 12.668001174926758, 8.222000122070312
Max Values: 70.1240005493164, 73.54399871826172, 81.87799835205078, 91.79600524902344, 101.56999969482422, 111.82999420166016, 117.35599517822266, 115.97000122070312, 107.49199676513672, 93.8479995727539, 78.60199737548828, 69.08000183105469
Mean Values: 41.40069446849259, 44.70117199400796, 51.229700730312956, 57.65392924759325, 66.45480066882205, 74.93280853950763, 84.15915028315105, 83.59639672209148, 75.72005801600565, 62.65432126583593, 49.11332307073051, 40.54872409294552
Standard Deviation Values: 9.657526043361841, 9.45718094890741, 8.932851502980501, 8.704254404195881, 8.567439986346708, 9.38544007418283, 8.671557390008928, 8.242510206116771, 8.52510901586995, 9.308862248734956, 9.768181478258226, 9.698895169824837
Object ID Field:
Fields:
None
Default Mosaic Method: Center
Allowed Mosaic Methods:
SortField:
SortValue: null
Mosaic Operator: First
Default Compression Quality: 75
Default Resampling Method: Bilinear
Max Record Count: null
Max Image Height: 4100
Max Image Width: 15000
Max Download Image Count: null
Max Mosaic Image Count: null
Allow Raster Function: true
Allow Copy: true
Allow Analysis: true
Allow Compute TiePoints: false
Supports Statistics: false
Supports Advanced Queries: false
Use StandardizedQueries: true
Raster Type Infos:
Name: Raster Dataset
Description: Supports all ArcGIS Raster Datasets
Help:
Has Raster Attribute Table: false
Edit Fields Info: null
Ownership Based AccessControl For Rasters: null
Child Resources:
Info
Histograms
Statistics
Key Properties
Legend
Raster Function Infos
Supported Operations:
Export Image
Identify
Measure
Compute Histograms
Compute Statistics Histograms
Get Samples
Compute Class Statistics
Query Boundary
Compute Pixel Location
Compute Angles
Validate
Project